Workbook
Name Week_01: LISTWeeks!$A$2:$A$53
Name Week_02: LISTWeeks!$B$2:$B$55
Name Week_03: LISTWeeks!$C$2:$C$54
Name Week_04: LISTWeeks!$D$2:$D$54
Name Week_05: LISTWeeks!$E$2:$E$54
Name Week_06: LISTWeeks!$F$2:$F$54
Name Week_07: LISTWeeks!$G$2:$G$54
Name Week_08: LISTWeeks!$H$2:$H$54
Name Week_09: LISTWeeks!$I$2:$I$55
Name Week_10: LISTWeeks!$J$2:$J$55
Name Week_11: LISTWeeks!$K$2:$K$53
Name Week_12: LISTWeeks!$L$2:$L$54
Name Week_13: LISTWeeks!$M$2:$M$54
Name Week_14: LISTWeeks!$N$2:$N$54
Name Week_15: LISTWeeks!$O$2:$O$55
Name Week_16: LISTWeeks!$P$2:$P$54
Name Week_17: LISTWeeks!$Q$2:$Q$55
Name Week_18: LISTWeeks!$R$2:$R$55
Name Week_19: LISTWeeks!$S$2:$S$53
Name Week_20: LISTWeeks!$T$2:$T$54
Name Week_21: LISTWeeks!$U$2:$U$55
Name Week_22: LISTWeeks!$V$2:$V$54
Name Week_23: LISTWeeks!$W$2:$W$54
Name Week_24: LISTWeeks!$X$2:$X$54
Name Week_25: LISTWeeks!$Y$2:$Y$54
Name Week_26: LISTWeeks!$Z$2:$Z$55
Name Week_27: LISTWeeks!$AA$2:$AA$54
Name Week_28: LISTWeeks!$AB$2:$AB$54
Name Week_29: LISTWeeks!$AC$2:$AC$55
Name Week_30: LISTWeeks!$AD$2:$AD$54
Name Week_31: LISTWeeks!$AE$2:$AE$54
Name Week_32: LISTWeeks!$AF$2:$AF$54
Name Week_33: LISTWeeks!$AG$2:$AG$54
Name Week_34: LISTWeeks!$AH$2:$AH$55
Name Week_35: LISTWeeks!$AI$2:$AI$54
Name Week_36: LISTWeeks!$AJ$2:$AJ$54
Name Week_37: LISTWeeks!$AK$2:$AK$55
Name Week_38: LISTWeeks!$AL$2:$AL$55
Name Week_39: LISTWeeks!$AM$2:$AM$53
Name Week_40: LISTWeeks!$AN$2:$AN$55
Name Week_41: LISTWeeks!$AO$2:$AO$54
Name Week_42: LISTWeeks!$AP$2:$AP$55
Name Week_43: LISTWeeks!$AQ$2:$AQ$55
Name Week_44: LISTWeeks!$AR$2:$AR$55
Name Week_45: LISTWeeks!$AS$2:$AS$55
Name Week_46: LISTWeeks!$AT$2:$AT$55
Name Week_47: LISTWeeks!$AU$2:$AU$54
Name Week_48: LISTWeeks!$AV$2:$AV$54
Name Week_49: LISTWeeks!$AW$2:$AW$54
Name Week_50: LISTWeeks!$AX$2:$AX$54
Name Week_51: LISTWeeks!$AY$2:$AY$53
Name Week_52: LISTWeeks!$AZ$2:$AZ$51

Sheet Lekce věnované Novému zákonu
A1: Průvodce časovým rozložením výuky Nového zákona na rok 2027
A2: Pomocí následujícího dokumentu si vytvořte průvodce časovým rozložením výuky pro školní rok 2027. Hvězdička (*) označuje lekce, na které se bude odkazovat v budoucí lekci Zhodnoťte své studium. Tučně zvýrazněné názvy lekcí označují lekce k procvičování mistrovství v nauce a lekce, které pasáže z mistrovství v nauce obsahují. Lekce připravenosti na život jsou uvedeny na samostatné záložce. Další nápovědu k vytvoření průvodce časovým rozložením naleznete v oddíle Školení ohledně vytváření průvodce časovým rozložením, které se nachází v dodatku Školení ohledně výukových materiálů semináře.
A4: Týden podle osnov Pojď, následuj mne | B4: Čísla a názvy lekcí věnovaných Novému zákonu | C4: Data výuky ve třídě | D4: Průvodce časovým rozložením na rok 2027
A5: (Odkazy na týdenní přehledy)
A6: 29. prosince – 3. ledna | B6: Lekce 1: Úvod k Novému zákonu* | C6: po 28. 12.
A7: Přehled: Matouš 1; Lukáš 1 | B7: Lekce 2: Matouš 1* | C7: út 29. 12.
B8: Lekce 3: Lukáš 1 | C8: st 30. 12.
C9: čt 31. 12.
C10: pá 1. 1.
A11: 4.–10. ledna | B11: Lekce 4: Lukáš 2:1–14* | C11: po 4. 1.
A12: Přehled: Matouš 2; Lukáš 2 | B12: Lekce 5: Lukáš 2:1–39; Matouš 2:1–12 | C12: út 5. 1.
C13: st 6. 1.
C14: čt 7. 1.
C15: pá 8. 1.
A16: 11.–17. ledna | B16: Lekce 6: Jan 1:1–16* | C16: po 11. 1.
A17: Přehled: Jan 1 | B17: Lekce 7: Jan 1:35–51* | C17: út 12. 1.
B18: Lekce 8: Procvičování mistrovství v nauce 1 | C18: st 13. 1.
C19: čt 14. 1.
C20: pá 15. 1.
A21: 18.–24. ledna | B21: Lekce 9: Matouš 3:1–12; Marek 1:1–8* | C21: po 18. 1.
A22: Přehled: Matouš 3; Lukáš 3; Marek 1 | B22: Lekce 10: Lukáš 3* | C22: út 19. 1.
B23: Lekce 11: Matouš 3:13–17* | C23: st 20. 1.
C24: čt 21. 1.
C25: pá 22. 1.
A26: 25.–29. ledna | B26: Lekce 12: Matouš 4:1–11 | C26: po 25. 1.
A27: Přehled: Matouš 4; Lukáš 4–5 | B27: Lekce 13: Lukáš 5:1–11* | C27: út 26. 1.
B28: Lekce 14: Zhodnoťte své studium 1 | C28: st 27. 1.
C29: čt 28. 1.
C30: pá 29. 1.
A31: 1.–7. února | B31: Lekce 15: Jan 3:1–13* | C31: po 1. 2.
A32: Přehled: Jan 2–4 | B32: Lekce 16: Jan 3:14–17 | C32: út 2. 2.
B33: Lekce 17: Jan 4* | C33: st 3. 2.
C34: čt 4. 2.
C35: pá 5. 2.
A36: 8.–14. února | B36: Lekce 18: Matouš 5:1–12* | C36: po 8. 2.
A37: Přehled: Matouš 5; Lukáš 6 | B37: Lekce 19: Matouš 5:14–16 | C37: út 9. 2.
B38: Lekce 20: Matouš 5:17–48 | C38: st 10. 2.
C39: čt. 11. 2.
C40: pá 12. 2.
A41: 15.–21. února | B41: Lekce 21: Matouš 6:1–18 | C41: po 15. 2.
...

Sheet Lekce připravenosti na život
A1: Nový zákon 2027 – lekce připravenosti na život
A3: Kategorie (s odkazem na přehled) | B3: Číslo a název lekce připravenosti na život
A4: Mistrovství v nauce: Hledejme odpovědi na své otázky (Přehled) | B4: Lekce 161: Posilujme své duchovní základy
B5: Lekce 162: Získávejme osobní zjevení ohledně svých otázek
B6: Lekce 163: Při hledání odpovědí jednejme s vírou
B7: Lekce 164: Zkoumejme témata a otázky týkající se evangelia z perspektivy věčnosti
B8: Lekce 165: Obracejme se k božsky určeným zdrojům a materiálům
A9: Dovednosti týkající se studia písem (Přehled) | B9: Lekce 166: Zaměřujme se při studiu písem na Ježíše Krista
B10: Lekce 167: Nacházení pravd evangelia v písmech
B11: Lekce 168: Označování textu a zapisování do písem
B12: Lekce 169: Nástroje pro studium písem
B13: Lekce 170: Představujme si příběhy z písem
A14: Pro posílení mládeže (Přehled) | B14: Lekce 171: Pro posílení mládeže: Průvodce rozhodováním
B15: Lekce 172: Stanovování cílů
B16: Lekce 173: Naše božská identita
B17: Lekce 174: Převezměme odpovědnost za používání technologií
B18: Lekce 175: Patriarchální požehnání
B19: Lekce 176: Společné rady
A20: Práce na dosažení soběstačnosti (Přehled) | B20: Lekce 177: Práce na dosažení soběstačnosti po způsobu Páně
B21: Lekce 178: Uplatňování víry v Ježíše Krista při práci na dosažení soběstačnosti
B22: Lekce 179: Moudré hospodaření s finančními zdroji
B23: Lekce 180: Zaopatřování sebe sama a péče o potřebné
A24: Fyzické a emoční zdraví (Přehled) | B24: Lekce 181: Budování emoční síly v Pánu
B25: Lekce 182: Péče o fyzické tělo
B26: Lekce 183: Rozvíjení zdravých myšlenkových vzorců
B27: Lekce 184: Zvládání stresu a úzkosti
B28: Lekce 185: Vyrovnávání se se smutkem a depresí
B29: Lekce 186: Zdokonalování se v Ježíši Kristu
B30: Lekce 187: Budování zdravých vztahů
A31: Příprava na budoucí vzdělání a zaměstnání (Přehled) | B31: Lekce 188: Důležitost vzdělání
B32: Lekce 189: Vzdělání pro celou duši
B33: Lekce 190: Objevte své silné stránky a schopnosti
B34: Lekce 191: Rozvíjení dovedností a schopností
A35: Pomoc se školním vzděláváním (Přehled) | B35: Lekce 192: Zapojujme do svého vzdělávání Pána
B36: Lekce 193: Bezúhonnost při našem vzdělávání
B37: Lekce 194: Příprava na testy a náročné projekty
B38: Lekce 195: Růstové myšlení
A39: Příprava na misii (Přehled) | B39: Lekce 196: Sdílejme evangelium z křesťanské lásky
B40: Lekce 197: Láska, sdílení a vyzývání
B41: Lekce 198: Rozhodnutí sloužit na misii
...

Sheet LISTLP
B2: Life Preparation Lessons | C2: Available Lessons
B3: ='Lekce připravenosti na život'!B4 -> Lekce 161: Posilujme své duchovní základy | C3: {=_xlfn._xlws.FILTER(B3:B49,COUNTIF('Lekce věnované Novému zákonu'!D6:D270,LISTLP!B3:B49)=0,"Use Lesson 207 for teaching messages from Church leaders")} -> Lekce 161: Posilujme své duchovní základy
B4: ='Lekce připravenosti na život'!B5 -> Lekce 162: Získávejme osobní zjevení ohledně svých otázek | C4: Lekce 162: Získávejme osobní zjevení ohledně svých otázek
B5: ='Lekce připravenosti na život'!B6 -> Lekce 163: Při hledání odpovědí jednejme s vírou | C5: Lekce 163: Při hledání odpovědí jednejme s vírou
B6: ='Lekce připravenosti na život'!B7 -> Lekce 164: Zkoumejme témata a otázky týkající se evangelia z perspektivy věčnosti | C6: Lekce 164: Zkoumejme témata a otázky týkající se evangelia z perspektivy věčnosti
B7: ='Lekce připravenosti na život'!B8 -> Lekce 165: Obracejme se k božsky určeným zdrojům a materiálům | C7: Lekce 165: Obracejme se k božsky určeným zdrojům a materiálům
B8: ='Lekce připravenosti na život'!B9 -> Lekce 166: Zaměřujme se při studiu písem na Ježíše Krista | C8: Lekce 166: Zaměřujme se při studiu písem na Ježíše Krista
B9: ='Lekce připravenosti na život'!B10 -> Lekce 167: Nacházení pravd evangelia v písmech | C9: Lekce 167: Nacházení pravd evangelia v písmech
B10: ='Lekce připravenosti na život'!B11 -> Lekce 168: Označování textu a zapisování do písem | C10: Lekce 168: Označování textu a zapisování do písem
B11: ='Lekce připravenosti na život'!B12 -> Lekce 169: Nástroje pro studium písem | C11: Lekce 169: Nástroje pro studium písem
B12: ='Lekce připravenosti na život'!B13 -> Lekce 170: Představujme si příběhy z písem | C12: Lekce 170: Představujme si příběhy z písem
B13: ='Lekce připravenosti na život'!B14 -> Lekce 171: Pro posílení mládeže: Průvodce rozhodováním | C13: Lekce 171: Pro posílení mládeže: Průvodce rozhodováním
B14: ='Lekce připravenosti na život'!B15 -> Lekce 172: Stanovování cílů | C14: Lekce 172: Stanovování cílů
B15: ='Lekce připravenosti na život'!B16 -> Lekce 173: Naše božská identita | C15: Lekce 173: Naše božská identita
... B48: ='Lekce připravenosti na život'!B49 -> Lekce 206: Studujme poselství Pánových služebníků | C48: Lekce 206: Studujme poselství Pánových služebníků
B49: ='Lekce připravenosti na život'!B51 -> Lekce 208: „Stůjte při hlásání pravdy pevně a s láskou“ | C49: Lekce 208: „Stůjte při hlásání pravdy pevně a s láskou“

Sheet LISTSC
A1: ='Lekce věnované Novému zákonu'!B6 -> Lekce 1: Úvod k Novému zákonu* | B1: ='Lekce věnované Novému zákonu'!B11 -> Lekce 4: Lukáš 2:1–14* | C1: ='Lekce věnované Novému zákonu'!B16 -> Lekce 6: Jan 1:1–16* | D1: ='Lekce věnované Novému zákonu'!B21 -> Lekce 9: Matouš 3:1–12; Marek 1:1–8* | E1: ='Lekce věnované Novému zákonu'!B26 -> Lekce 12: Matouš 4:1–11 | F1: ='Lekce věnované Novému zákonu'!B31 -> Lekce 15: Jan 3:1–13* | G1: ='Lekce věnované Novému zákonu'!B36 -> Lekce 18: Matouš 5:1–12* | H1: ='Lekce věnované Novému zákonu'!B41 -> Lekce 21: Matouš 6:1–18 | I1: ='Lekce věnované Novému zákonu'!B46 -> Lekce 25: Matouš 8; Lukáš 7:11–17* | J1: ='Lekce věnované Novému zákonu'!B51 -> Lekce 28: Marek 5:24–34* | K1: ='Lekce věnované Novému zákonu'!B56 -> Lekce 32: Matouš 11:28–30 | L1: ='Lekce věnované Novému zákonu'!B61 -> Lekce 35: Matouš 13* | M1: ='Lekce věnované Novému zákonu'!B66 -> Velikonoce: Radostné poselství Velikonoc | N1: ='Lekce věnované Novému zákonu'!B71 -> Lekce 38: Matouš 14:13–21; Jan 6:5–14 | O1: ='Lekce věnované Novému zákonu'!B76 -> Lekce 42: Matouš 16:13–18 | P1: ='Lekce věnované Novému zákonu'!B81 -> Lekce 45: Matouš 18:21–35* | Q1: ='Lekce věnované Novému zákonu'!B86 -> Lekce 48: Jan 7 | R1: ='Lekce věnované Novému zákonu'!B91 -> Lekce 52: Lukáš 15, 1. část* | S1: ='Lekce věnované Novému zákonu'!B96 -> Lekce 56: Matouš 19:1–2 | T1: ='Lekce věnované Novému zákonu'!B101 -> Lekce 59: Matouš 21:1–16; Jan 12:12–15* | U1: ='Lekce věnované Novému zákonu'!B106 -> Lekce 62: Joseph Smith – Matouš* | V1: ='Lekce věnované Novému zákonu'!B111 -> Lekce 64: Jan 13 | W1: ='Lekce věnované Novému zákonu'!B116 -> Lekce 67: Jan 14:15–31; 15:10–14 | X1: ='Lekce věnované Novému zákonu'!B121 -> Lekce 70: Lukáš 22:28–34, 54–61 | Y1: ='Lekce věnované Novému zákonu'!B126 -> Lekce 73: Matouš 27:27–37; Marek 15:15–26* | Z1: ='Lekce věnované Novému zákonu'!B131 -> Lekce 77: Lukáš 24:1–12, 36–48* | AA1: ='Lekce věnované Novému zákonu'!B136 -> Lekce 81: Skutkové 1* | AB1: ='Lekce věnované Novému zákonu'!B141 -> Lekce 85: Skutkové 6–7* | AC1: ='Lekce věnované Novému zákonu'!B146 -> Lekce 89: Skutkové 10, 1. část* | AD1: ='Lekce věnované Novému zákonu'!B151 -> Lekce 92: Skutkové 16* | AE1: ='Lekce věnované Novému zákonu'!B156 -> Lekce 96: Skutkové 22–28 | AF1: ='Lekce věnované Novému zákonu'!B161 -> Lekce 99: Římanům 1 | AG1: ='Lekce věnované Novému zákonu'!B166 -> Lekce 103: Římanům 8 | AH1: ='Lekce věnované Novému zákonu'!B171 -> Lekce 106: 1. Korintským 1–4 | AI1: ='Lekce věnované Novému zákonu'!B176 -> Lekce 109: 1. Korintským 10 | AJ1: ='Lekce věnované Novému zákonu'!B181 -> Lekce 113: 1. Korintským 15:13–28, 54–58 | AK1: ='Lekce věnované Novému zákonu'!B186 -> Lekce 117: 2. Korintským 1; 4* | AL1: ='Lekce věnované Novému zákonu'!B191 -> Lekce 121: 2. Korintským 8–9* | AM1: ='Lekce věnované Novému zákonu'!B196 -> Lekce 123: Galatským 5 | AN1: ='Lekce věnované Novému zákonu'!B201 -> Lekce 124: Efezským 1* | AO1: ='Lekce věnované Novému zákonu'!B206 -> Lekce 128: Filipenským 3* | AP1: ='Lekce věnované Novému zákonu'!B211 -> Lekce 132: Zhodnoťte své studium 8 | AQ1: ='Lekce věnované Novému zákonu'!B216 -> Lekce 135: 1. Timoteovi 4:12–16* | AR1: ='Lekce věnované Novému zákonu'!B221 -> Lekce 138: Židům 1–13 | AS1: ='Lekce věnované Novému zákonu'!B226 -> Lekce 141: Židům 11* | AT1: ='Lekce věnované Novému zákonu'!B231 -> Lekce 143: Jakub 1 | AU1: ='Lekce věnované Novému zákonu'!B236 -> Lekce 146: 1. Petrova 2–3 | AV1: ='Lekce věnované Novému zákonu'!B241 -> Lekce 149: 1. Janova 1–5 | AW1: ='Lekce věnované Novému zákonu'!B246 -> Lekce 151: Zjevení 1 | AX1: ='Lekce věnované Novému zákonu'!B251 -> Lekce 154: Procvičování mistrovství v nauce 10 | AY1: ='Lekce věnované Novému zákonu'!B256 -> Lekce 157: Zjevení 20:11–15
A2: ='Lekce věnované Novému zákonu'!B7 -> Lekce 2: Matouš 1* | B2: ='Lekce věnované Novému zákonu'!B12 -> Lekce 5: Lukáš 2:1–39; Matouš 2:1–12 | C2: ='Lekce věnované Novému zákonu'!B17 -> Lekce 7: Jan 1:35–51* | D2: ='Lekce věnované Novému zákonu'!B22 -> Lekce 10: Lukáš 3* | E2: ='Lekce věnované Novému zákonu'!B27 -> Lekce 13: Lukáš 5:1–11* | F2: ='Lekce věnované Novému zákonu'!B32 -> Lekce 16: Jan 3:14–17 | G2: ='Lekce věnované Novému zákonu'!B37 -> Lekce 19: Matouš 5:14–16 | H2: ='Lekce věnované Novému zákonu'!B42 -> Lekce 22: Matouš 6:19–34 | I2: ='Lekce věnované Novému zákonu'!B47 -> Lekce 26: Marek 2:1–12* | J2: ='Lekce věnované Novému zákonu'!B52 -> Lekce 29: Marek 5:21–24, 35–43* | K2: ='Lekce věnované Novému zákonu'!B57 -> Lekce 33: Marek 2:23–3:6 | L2: ='Lekce věnované Novému zákonu'!B62 -> Lekce 36: Matouš 13:3–8, 18–23* | N2: ='Lekce věnované Novému zákonu'!B72 -> Lekce 39: Matouš 14:22–33 | O2: ='Lekce věnované Novému zákonu'!B77 -> Lekce 43: Matouš 16:18–19; 17:1–7* | P2: ='Lekce věnované Novému zákonu'!B82 -> Lekce 46: Lukáš 10:25–37* | Q2: ='Lekce věnované Novému zákonu'!B87 -> Lekce 49: Jan 8 | R2: ='Lekce věnované Novému zákonu'!B92 -> Lekce 53: Lukáš 15, 2. část* | S2: ='Lekce věnované Novému zákonu'!B97 -> Lekce 57: Matouš 19:16–30; Marek 10:17–31* | T2: ='Lekce věnované Novému zákonu'!B102 -> Lekce 60: Matouš 22:34–40* | U2: ='Lekce věnované Novému zákonu'!B107 -> Lekce 63: Matouš 25:1–13* | V2: ='Lekce věnované Novému zákonu'!B112 -> Lekce 65: Matouš 26:26–30; Lukáš 22:19–20* | W2: ='Lekce věnované Novému zákonu'!B117 -> Lekce 68: Jan 14–16 | X2: ='Lekce věnované Novému zákonu'!B122 -> Lekce 71: Matouš 26:36–46; Lukáš 22:39–46* | Y2: ='Lekce věnované Novému zákonu'!B127 -> Lekce 74: Matouš 27:39–43; Lukáš 23:32–37; Jan 19:25–27* | Z2: ='Lekce věnované Novému zákonu'!B132 -> Lekce 78: Matouš 28; Lukáš 24; Jan 20* | AA2: ='Lekce věnované Novému zákonu'!B137 -> Lekce 82: Skutkové 2* | AB2: ='Lekce věnované Novému zákonu'!B142 -> Lekce 86: Skutkové 8* | AC2: ='Lekce věnované Novému zákonu'!B147 -> Lekce 90: Skutkové 10, 2. část* | AD2: ='Lekce věnované Novému zákonu'!B152 -> Lekce 93: Skutkové 17:1–14 | AE2: ='Lekce věnované Novému zákonu'!B157 -> Lekce 97: Skutkové 22; 24; 26* | AF2: ='Lekce věnované Novému zákonu'!B162 -> Lekce 100: Římanům 3* | AG2: ='Lekce věnované Novému zákonu'!B167 -> Lekce 104: Římanům 12–13* | AH2: ='Lekce věnované Novému zákonu'!B172 -> Lekce 107: 1. Korintským 2* | AI2: ='Lekce věnované Novému zákonu'!B177 -> Lekce 110: 1. Korintským 11 | AJ2: ='Lekce věnované Novému zákonu'!B182 -> Lekce 114: 1. Korintským 15:29–54 | AK2: ='Lekce věnované Novému zákonu'!B187 -> Lekce 118: 2. Korintským 2* | AL2: ='Lekce věnované Novému zákonu'!B192 -> Lekce 122: 2. Korintským 12–13 | AN2: ='Lekce věnované Novému zákonu'!B202 -> Lekce 125: Efezským 2* | AO2: ='Lekce věnované Novému zákonu'!B207 -> Lekce 129: Filipenským 4* | AP2: ='Lekce věnované Novému zákonu'!B212 -> Lekce 133: 1. Tessalonicenským* | AQ2: ='Lekce věnované Novému zákonu'!B217 -> Lekce 136: 2. Timoteovi 3 | AR2: ='Lekce věnované Novému zákonu'!B222 -> Lekce 139: Židům 2–4 | AS2: ='Lekce věnované Novému zákonu'!B227 -> Lekce 142: Židům 12 | AT2: ='Lekce věnované Novému zákonu'!B232 -> Lekce 144: Jakub 2 | AU2: ='Lekce věnované Novému zákonu'!B237 -> Lekce 147: 1. Petrova 3:18–22; 4:1–6 | AV2: ='Lekce věnované Novému zákonu'!B242 -> Lekce 150: 1. Janova 2–4 | AW2: ='Lekce věnované Novému zákonu'!B247 -> Lekce 152: Zjevení 2–3 | AX2: ='Lekce věnované Novému zákonu'!B252 -> Lekce 155: Zjevení 12 | AY2: ='Lekce věnované Novému zákonu'!B257 -> Lekce 158: Zjevení 21–22
A3: ='Lekce věnované Novému zákonu'!B8 -> Lekce 3: Lukáš 1 | C3: ='Lekce věnované Novému zákonu'!B18 -> Lekce 8: Procvičování mistrovství v nauce 1 | D3: ='Lekce věnované Novému zákonu'!B23 -> Lekce 11: Matouš 3:13–17* | E3: ='Lekce věnované Novému zákonu'!B28 -> Lekce 14: Zhodnoťte své studium 1 | F3: ='Lekce věnované Novému zákonu'!B33 -> Lekce 17: Jan 4* | G3: ='Lekce věnované Novému zákonu'!B38 -> Lekce 20: Matouš 5:17–48 | H3: ='Lekce věnované Novému zákonu'!B43 -> Lekce 23: Matouš 7:1–5* | I3: ='Lekce věnované Novému zákonu'!B48 -> Lekce 27: Lukáš 7:36–50* | J3: ='Lekce věnované Novému zákonu'!B53 -> Lekce 30: Matouš 9:36–38; 10* | K3: ='Lekce věnované Novému zákonu'!B58 -> Lekce 34: Lukáš 11:1–13 | L3: ='Lekce věnované Novému zákonu'!B63 -> Lekce 37: Matouš 13:24–30, 36–43 | N3: ='Lekce věnované Novému zákonu'!B73 -> Lekce 40: Jan 5:19, 30; 8:18–28; Matouš 11:27 | O3: ='Lekce věnované Novému zákonu'!B78 -> Lekce 44: Procvičování mistrovství v nauce 3 | P3: ='Lekce věnované Novému zákonu'!B83 -> Lekce 47: Zhodnoťte své studium 3 | Q3: ='Lekce věnované Novému zákonu'!B88 -> Lekce 50: Jan 9* | R3: ='Lekce věnované Novému zákonu'!B93 -> Lekce 54: Lukáš 17:11–19* | S3: ='Lekce věnované Novému zákonu'!B98 -> Lekce 58: Matouš 20:1–16 | T3: ='Lekce věnované Novému zákonu'!B103 -> Lekce 61: Procvičování mistrovství v nauce 4 | V3: ='Lekce věnované Novému zákonu'!B113 -> Lekce 66: Zhodnoťte své studium 4 | W3: ='Lekce věnované Novému zákonu'!B118 -> Lekce 69: Jan 17 | X3: ='Lekce věnované Novému zákonu'!B123 -> Lekce 72: Lukáš 22:47–71; Jan 18:1–12, 33–38* | Y3: ='Lekce věnované Novému zákonu'!B128 -> Lekce 75: Matouš 27: 44–66; Marek 15:15–38* | Z3: ='Lekce věnované Novému zákonu'!B133 -> Lekce 79: Lukáš 24:13–35* | AA3: ='Lekce věnované Novému zákonu'!B138 -> Lekce 83: Skutkové 3* | AB3: ='Lekce věnované Novému zákonu'!B143 -> Lekce 87: Skutkové 8:1–3; 9:1–20* | AC3: ='Lekce věnované Novému zákonu'!B148 -> Lekce 91: Skutkové 12 | AD3: ='Lekce věnované Novému zákonu'!B153 -> Lekce 94: Skutkové 19:1–7 | AE3: ='Lekce věnované Novému zákonu'!B158 -> Lekce 98: Zhodnoťte své studium 6 | AF3: ='Lekce věnované Novému zákonu'!B163 -> Lekce 101: Římanům 4–5* | AG3: ='Lekce věnované Novému zákonu'!B168 -> Lekce 105: Římanům 12–15 | AH3: ='Lekce věnované Novému zákonu'!B173 -> Lekce 108: 1. Korintským 6 | AI3: ='Lekce věnované Novému zákonu'!B178 -> Lekce 111: 1. Korintským 12* | AJ3: ='Lekce věnované Novému zákonu'!B183 -> Lekce 115: Zhodnoťte své studium 7 | AK3: ='Lekce věnované Novému zákonu'!B188 -> Lekce 119: 2. Korintským 5 | AN3: ='Lekce věnované Novému zákonu'!B203 -> Lekce 126: Efezským 5–6* | AO3: ='Lekce věnované Novému zákonu'!B208 -> Lekce 130: Kolossenským 1–3 | AP3: ='Lekce věnované Novému zákonu'!B213 -> Lekce 134: 2. Tessalonicenským* | AQ3: ='Lekce věnované Novému zákonu'!B218 -> Lekce 137: 2. Timoteovi 4* | AR3: ='Lekce věnované Novému zákonu'!B223 -> Lekce 140: Procvičování mistrovství v nauce 9 | AT3: ='Lekce věnované Novému zákonu'!B233 -> Lekce 145: Zhodnoťte své studium 9 | AU3: ='Lekce věnované Novému zákonu'!B238 -> Lekce 148: 2. Petrova 1 | AW3: ='Lekce věnované Novému zákonu'!B248 -> Lekce 153: Zjevení 5–7 | AX3: ='Lekce věnované Novému zákonu'!B253 -> Lekce 156: Zjevení 14 | AY3: ='Lekce věnované Novému zákonu'!B258 -> Lekce 159: Zhodnoťte své studium 10
H4: ='Lekce věnované Novému zákonu'!B44 -> Lekce 24: Procvičování mistrovství v nauce 2 | J4: ='Lekce věnované Novému zákonu'!B54 -> Lekce 31: Zhodnoťte své studium 2 | N4: ='Lekce věnované Novému zákonu'!B74 -> Lekce 41: Jan 6 | Q4: ='Lekce věnované Novému zákonu'!B89 -> Lekce 51: Jan 10* | R4: ='Lekce věnované Novému zákonu'!B94 -> Lekce 55: Jan 11* | Y4: ='Lekce věnované Novému zákonu'!B129 -> Lekce 76: Procvičování mistrovství v nauce 5 | Z4: ='Lekce věnované Novému zákonu'!B134 -> Lekce 80: Zhodnoťte své studium 5 | AA4: ='Lekce věnované Novému zákonu'!B139 -> Lekce 84: Skutkové 4–5 | AB4: ='Lekce věnované Novému zákonu'!B144 -> Lekce 88: Skutkové 9:10–31* | AD4: ='Lekce věnované Novému zákonu'!B154 -> Lekce 95: Procvičování mistrovství v nauce 6 | AF4: ='Lekce věnované Novému zákonu'!B164 -> Lekce 102: Římanům 6* | AI4: ='Lekce věnované Novému zákonu'!B179 -> Lekce 112: 1. Korintským 13* | AJ4: ='Lekce věnované Novému zákonu'!B184 -> Lekce 116: Procvičování mistrovství v nauce 7 | AK4: ='Lekce věnované Novému zákonu'!B189 -> Lekce 120: 2. Korintským 7 | AN4: ='Lekce věnované Novému zákonu'!B204 -> Lekce 127: Efezským 6:10−24* | AO4: ='Lekce věnované Novému zákonu'!B209 -> Lekce 131: Procvičování mistrovství v nauce 8
A6: Week 1 | B6: Week 2 | C6: Week 3 | D6: Week 4 | E6: Week 5 | F6: Week 6 | G6: Week 7 | H6: Week 8 | I6: Week 9 | J6: Week 10 | K6: Week 11 | L6: Week 12 | M6: Week 13 | N6: Week 14 | O6: Week 15 | P6: Week 16 | Q6: Week 17 | R6: Week 18 | S6: Week 19 | T6: Week 20 | U6: Week 21 | V6: Week 22 | W6: Week 23 | X6: Week 24 | Y6: Week 25 | Z6: Week 26 | AA6: Week 27 | AB6: Week 28 | AC6: Week 29 | AD6: Week 30 | AE6: Week 31 | AF6: Week 32 | AG6: Week 33 | AH6: Week 34 | AI6: Week 35 | AJ6: Week 36 | AK6: Week 37 | AL6: Week 38 | AM6: Week 39 | AN6: Week 40 | AO6: Week 41 | AP6: Week 42 | AQ6: Week 43 | AR6: Week 44 | AS6: Week 45 | AT6: Week 46 | AU6: Week 47 | AV6: Week 48 | AW6: Week 49 | AX6: Week 50 | AY6: Week 51 | AZ6: Week 52
A7: {=_xlfn._xlws.FILTER(A1:A3,COUNTIF('Lekce věnované Novému zákonu'!D6:D10,LISTSC!A1:A3)=0,"You have used all Old Testament lessons for this week of Come, Follow Me.")} -> Lekce 1: Úvod k Novému zákonu* | B7: {=_xlfn._xlws.FILTER(B1:B2,COUNTIF('Lekce věnované Novému zákonu'!D11:D15,LISTSC!B1:B2)=0,"You have used all Old Testament lessons for this week of Come, Follow Me.")} -> Lekce 4: Lukáš 2:1–14* | C7: {=_xlfn._xlws.FILTER(C1:C3,COUNTIF('Lekce věnované Novému zákonu'!D16:D20,LISTSC!C1:C3)=0,"You have used all Old Testament lessons for this week of Come, Follow Me.")} -> Lekce 6: Jan 1:1–16* | D7: {=_xlfn._xlws.FILTER(D1:D3,COUNTIF('Lekce věnované Novému zákonu'!D21:D25,LISTSC!D1:D3)=0,"You have used all Old Testament lessons for this week of Come, Follow Me.")} -> Lekce 9: Matouš 3:1–12; Marek 1:1–8* | E7: {=_xlfn._xlws.FILTER(E1:E3,COUNTIF('Lekce věnované Novému zákonu'!D26:D30,LISTSC!E1:E3)=0,"You have used all Old Testament lessons for this week of Come, Follow Me.")} -> Lekce 12: Matouš 4:1–11 | F7: {=_xlfn._xlws.FILTER(F1:F3,COUNTIF('Lekce věnované Novému zákonu'!D31:D35,LISTSC!F1:F3)=0,"You have used all Old Testament lessons for this week of Come, Follow Me.")} -> Lekce 15: Jan 3:1–13* | G7: {=_xlfn._xlws.FILTER(G1:G3,COUNTIF('Lekce věnované Novému zákonu'!D36:D40,LISTSC!G1:G3)=0,"You have used all Old Testament lessons for this week of Come, Follow Me.")} -> Lekce 18: Matouš 5:1–12* | H7: {=_xlfn._xlws.FILTER(H1:H4,COUNTIF('Lekce věnované Novému zákonu'!D41:D45,LISTSC!H1:H4)=0,"You have used all Old Testament lessons for this week of Come, Follow Me.")} -> Lekce 21: Matouš 6:1–18 | I7: {=_xlfn._xlws.FILTER(I1:I3,COUNTIF('Lekce věnované Novému zákonu'!D46:D50,LISTSC!I1:I3)=0,"You have used all Old Testament lessons for this week of Come, Follow Me.")} -> Lekce 25: Matouš 8; Lukáš 7:11–17* | J7: {=_xlfn._xlws.FILTER(J1:J4,COUNTIF('Lekce věnované Novému zákonu'!D51:D55,LISTSC!J1:J4)=0,"You have used all Old Testament lessons for this week of Come, Follow Me.")} -> Lekce 28: Marek 5:24–34* | K7: {=_xlfn._xlws.FILTER(K1:K3,COUNTIF('Lekce věnované Novému zákonu'!D56:D60,LISTSC!K1:K3)=0,"You have used all Old Testament lessons for this week of Come, Follow Me.")} -> Lekce 32: Matouš 11:28–30 | L7: {=_xlfn._xlws.FILTER(L1:L3,COUNTIF('Lekce věnované Novému zákonu'!D61:D65,LISTSC!L1:L3)=0,"You have used all Old Testament lessons for this week of Come, Follow Me.")} -> Lekce 35: Matouš 13* | M7: {=_xlfn._xlws.FILTER(M1:M1,COUNTIF('Lekce věnované Novému zákonu'!D66:D70,LISTSC!M1:M1)=0,"You have used all Old Testament lessons for this week of Come, Follow Me.")} -> Velikonoce: Radostné poselství Velikonoc | N7: {=_xlfn._xlws.FILTER(N1:N4,COUNTIF('Lekce věnované Novému zákonu'!D71:D75,LISTSC!N1:N4)=0,"You have used all Old Testament lessons for this week of Come, Follow Me.")} -> Lekce 38: Matouš 14:13–21; Jan 6:5–14 | O7: {=_xlfn._xlws.FILTER(O1:O3,COUNTIF('Lekce věnované Novému zákonu'!D76:D80,LISTSC!O1:O3)=0,"You have used all Old Testament lessons for this week of Come, Follow Me.")} -> Lekce 42: Matouš 16:13–18 | P7: {=_xlfn._xlws.FILTER(P1:P3,COUNTIF('Lekce věnované Novému zákonu'!D81:D85,LISTSC!P1:P3)=0,"You have used all Old Testament lessons for this week of Come, Follow Me.")} -> Lekce 45: Matouš 18:21–35* | Q7: {=_xlfn._xlws.FILTER(Q1:Q4,COUNTIF('Lekce věnované Novému zákonu'!D86:D90,LISTSC!Q1:Q4)=0,"You have used all Old Testament lessons for this week of Come, Follow Me.")} -> Lekce 48: Jan 7 | R7: {=_xlfn._xlws.FILTER(R1:R4,COUNTIF('Lekce věnované Novému zákonu'!D91:D95,LISTSC!R1:R4)=0,"You have used all Old Testament lessons for this week of Come, Follow Me.")} -> Lekce 52: Lukáš 15, 1. část* | S7: {=_xlfn._xlws.FILTER(S1:S3,COUNTIF('Lekce věnované Novému zákonu'!D96:D100,LISTSC!S1:S3)=0,"You have used all Old Testament lessons for this week of Come, Follow Me.")} -> Lekce 56: Matouš 19:1–2 | T7: {=_xlfn._xlws.FILTER(T1:T3,COUNTIF('Lekce věnované Novému zákonu'!D101:D105,LISTSC!T1:T3)=0,"You have used all Old Testament lessons for this week of Come, Follow Me.")} -> Lekce 59: Matouš 21:1–16; Jan 12:12–15* | U7: {=_xlfn._xlws.FILTER(U1:U2,COUNTIF('Lekce věnované Novému zákonu'!D106:D110,LISTSC!U1:U2)=0,"You have used all Old Testament lessons for this week of Come, Follow Me.")} -> Lekce 62: Joseph Smith – Matouš* | V7: {=_xlfn._xlws.FILTER(V1:V3,COUNTIF('Lekce věnované Novému zákonu'!D111:D115,LISTSC!V1:V3)=0,"You have used all Old Testament lessons for this week of Come, Follow Me.")} -> Lekce 64: Jan 13 | W7: {=_xlfn._xlws.FILTER(W1:W3,COUNTIF('Lekce věnované Novému zákonu'!D116:D120,LISTSC!W1:W3)=0,"You have used all Old Testament lessons for this week of Come, Follow Me.")} -> Lekce 67: Jan 14:15–31; 15:10–14 | X7: {=_xlfn._xlws.FILTER(X1:X3,COUNTIF('Lekce věnované Novému zákonu'!D121:D125,LISTSC!X1:X3)=0,"You have used all Old Testament lessons for this week of Come, Follow Me.")} -> Lekce 70: Lukáš 22:28–34, 54–61 | Y7: {=_xlfn._xlws.FILTER(Y1:Y4,COUNTIF('Lekce věnované Novému zákonu'!D126:D130,LISTSC!Y1:Y4)=0,"You have used all Old Testament lessons for this week of Come, Follow Me.")} -> Lekce 73: Matouš 27:27–37; Marek 15:15–26* | Z7: {=_xlfn._xlws.FILTER(Z1:Z4,COUNTIF('Lekce věnované Novému zákonu'!D131:D135,LISTSC!Z1:Z4)=0,"You have used all Old Testament lessons for this week of Come, Follow Me.")} -> Lekce 77: Lukáš 24:1–12, 36–48* | AA7: {=_xlfn._xlws.FILTER(AA1:AA4,COUNTIF('Lekce věnované Novému zákonu'!D136:D140,LISTSC!AA1:AA4)=0,"You have used all Old Testament lessons for this week of Come, Follow Me.")} -> Lekce 81: Skutkové 1* | AB7: {=_xlfn._xlws.FILTER(AB1:AB4,COUNTIF('Lekce věnované Novému zákonu'!D141:D145,LISTSC!AB1:AB4)=0,"You have used all Old Testament lessons for this week of Come, Follow Me.")} -> Lekce 85: Skutkové 6–7* | AC7: {=_xlfn._xlws.FILTER(AC1:AC3,COUNTIF('Lekce věnované Novému zákonu'!D146:D150,LISTSC!AC1:AC3)=0,"You have used all Old Testament lessons for this week of Come, Follow Me.")} -> Lekce 89: Skutkové 10, 1. část* | AD7: {=_xlfn._xlws.FILTER(AD1:AD4,COUNTIF('Lekce věnované Novému zákonu'!D151:D155,LISTSC!AD1:AD4)=0,"You have used all Old Testament lessons for this week of Come, Follow Me.")} -> Lekce 92: Skutkové 16* | AE7: {=_xlfn._xlws.FILTER(AE1:AE3,COUNTIF('Lekce věnované Novému zákonu'!D156:D160,LISTSC!AE1:AE3)=0,"You have used all Old Testament lessons for this week of Come, Follow Me.")} -> Lekce 96: Skutkové 22–28 | AF7: {=_xlfn._xlws.FILTER(AF1:AF4,COUNTIF('Lekce věnované Novému zákonu'!D161:D165,LISTSC!AF1:AF4)=0,"You have used all Old Testament lessons for this week of Come, Follow Me.")} -> Lekce 99: Římanům 1 | AG7: {=_xlfn._xlws.FILTER(AG1:AG3,COUNTIF('Lekce věnované Novému zákonu'!D166:D170,LISTSC!AG1:AG3)=0,"You have used all Old Testament lessons for this week of Come, Follow Me.")} -> Lekce 103: Římanům 8 | AH7: {=_xlfn._xlws.FILTER(AH1:AH3,COUNTIF('Lekce věnované Novému zákonu'!D171:D175,LISTSC!AH1:AH3)=0,"You have used all Old Testament lessons for this week of Come, Follow Me.")} -> Lekce 106: 1. Korintským 1–4 | AI7: {=_xlfn._xlws.FILTER(AI1:AI4,COUNTIF('Lekce věnované Novému zákonu'!D176:D180,LISTSC!AI1:AI4)=0,"You have used all Old Testament lessons for this week of Come, Follow Me.")} -> Lekce 109: 1. Korintským 10 | AJ7: {=_xlfn._xlws.FILTER(AJ1:AJ4,COUNTIF('Lekce věnované Novému zákonu'!D181:D185,LISTSC!AJ1:AJ4)=0,"You have used all Old Testament lessons for this week of Come, Follow Me.")} -> Lekce 113: 1. Korintským 15:13–28, 54–58 | AK7: {=_xlfn._xlws.FILTER(AK1:AK4,COUNTIF('Lekce věnované Novému zákonu'!D186:D190,LISTSC!AK1:AK4)=0,"You have used all Old Testament lessons for this week of Come, Follow Me.")} -> Lekce 117: 2. Korintským 1; 4* | AL7: {=_xlfn._xlws.FILTER(AL1:AL2,COUNTIF('Lekce věnované Novému zákonu'!D191:D195,LISTSC!AL1:AL2)=0,"You have used all Old Testament lessons for this week of Come, Follow Me.")} -> Lekce 121: 2. Korintským 8–9* | AM7: {=_xlfn._xlws.FILTER(AM1,COUNTIF('Lekce věnované Novému zákonu'!D196:D200,LISTSC!AM1)=0,"You have used all Old Testament lessons for this week of Come, Follow Me.")} -> Lekce 123: Galatským 5 | AN7: {=_xlfn._xlws.FILTER(AN1:AN4,COUNTIF('Lekce věnované Novému zákonu'!D201:D205,LISTSC!AN1:AN4)=0,"You have used all Old Testament lessons for this week of Come, Follow Me.")} -> Lekce 124: Efezským 1* | AO7: {=_xlfn._xlws.FILTER(AO1:AO4,COUNTIF('Lekce věnované Novému zákonu'!D206:D210,LISTSC!AO1:AO4)=0,"You have used all Old Testament lessons for this week of Come, Follow Me.")} -> Lekce 128: Filipenským 3* | AP7: {=_xlfn._xlws.FILTER(AP1:AP3,COUNTIF('Lekce věnované Novému zákonu'!D211:D215,LISTSC!AP1:AP3)=0,"You have used all Old Testament lessons for this week of Come, Follow Me.")} -> Lekce 132: Zhodnoťte své studium 8 | AQ7: {=_xlfn._xlws.FILTER(AQ1:AQ3,COUNTIF('Lekce věnované Novému zákonu'!D216:D220,LISTSC!AQ1:AQ3)=0,"You have used all Old Testament lessons for this week of Come, Follow Me.")} -> Lekce 135: 1. Timoteovi 4:12–16* | AR7: {=_xlfn._xlws.FILTER(AR1:AR3,COUNTIF('Lekce věnované Novému zákonu'!D221:D225,LISTSC!AR1:AR3)=0,"You have used all Old Testament lessons for this week of Come, Follow Me.")} -> Lekce 138: Židům 1–13 | AS7: {=_xlfn._xlws.FILTER(AS1:AS2,COUNTIF('Lekce věnované Novému zákonu'!D226:D230,LISTSC!AS1:AS2)=0,"You have used all Old Testament lessons for this week of Come, Follow Me.")} -> Lekce 141: Židům 11* | AT7: {=_xlfn._xlws.FILTER(AT1:AT3,COUNTIF('Lekce věnované Novému zákonu'!D231:D235,LISTSC!AT1:AT3)=0,"You have used all Old Testament lessons for this week of Come, Follow Me.")} -> Lekce 143: Jakub 1 | AU7: {=_xlfn._xlws.FILTER(AU1:AU3,COUNTIF('Lekce věnované Novému zákonu'!D236:D240,LISTSC!AU1:AU3)=0,"You have used all Old Testament lessons for this week of Come, Follow Me.")} -> Lekce 146: 1. Petrova 2–3 | AV7: {=_xlfn._xlws.FILTER(AV1:AV2,COUNTIF('Lekce věnované Novému zákonu'!D241:D245,LISTSC!AV1:AV2)=0,"You have used all Old Testament lessons for this week of Come, Follow Me.")} -> Lekce 149: 1. Janova 1–5 | AW7: {=_xlfn._xlws.FILTER(AW1:AW3,COUNTIF('Lekce věnované Novému zákonu'!D246:D250,LISTSC!AW1:AW3)=0,"You have used all Old Testament lessons for this week of Come, Follow Me.")} -> Lekce 151: Zjevení 1 | AX7: {=_xlfn._xlws.FILTER(AX1:AX3,COUNTIF('Lekce věnované Novému zákonu'!D251:D255,LISTSC!AX1:AX3)=0,"You have used all Old Testament lessons for this week of Come, Follow Me.")} -> Lekce 154: Procvičování mistrovství v nauce 10 | AY7: {=_xlfn._xlws.FILTER(AY1:AY3,COUNTIF('Lekce věnované Novému zákonu'!D256:D260,LISTSC!AY1:AY3)=0,"You have used all Old Testament lessons for this week of Come, Follow Me.")} -> Lekce 157: Zjevení 20:11–15
A8: Lekce 2: Matouš 1* | B8: Lekce 5: Lukáš 2:1–39; Matouš 2:1–12 | C8: Lekce 7: Jan 1:35–51* | D8: Lekce 10: Lukáš 3* | E8: Lekce 13: Lukáš 5:1–11* | F8: Lekce 16: Jan 3:14–17 | G8: Lekce 19: Matouš 5:14–16 | H8: Lekce 22: Matouš 6:19–34 | I8: Lekce 26: Marek 2:1–12* | J8: Lekce 29: Marek 5:21–24, 35–43* | K8: Lekce 33: Marek 2:23–3:6 | L8: Lekce 36: Matouš 13:3–8, 18–23* | N8: Lekce 39: Matouš 14:22–33 | O8: Lekce 43: Matouš 16:18–19; 17:1–7* | P8: Lekce 46: Lukáš 10:25–37* | Q8: Lekce 49: Jan 8 | R8: Lekce 53: Lukáš 15, 2. část* | S8: Lekce 57: Matouš 19:16–30; Marek 10:17–31* | T8: Lekce 60: Matouš 22:34–40* | U8: Lekce 63: Matouš 25:1–13* | V8: Lekce 65: Matouš 26:26–30; Lukáš 22:19–20* | W8: Lekce 68: Jan 14–16 | X8: Lekce 71: Matouš 26:36–46; Lukáš 22:39–46* | Y8: Lekce 74: Matouš 27:39–43; Lukáš 23:32–37; Jan 19:25–27* | Z8: Lekce 78: Matouš 28; Lukáš 24; Jan 20* | AA8: Lekce 82: Skutkové 2* | AB8: Lekce 86: Skutkové 8* | AC8: Lekce 90: Skutkové 10, 2. část* | AD8: Lekce 93: Skutkové 17:1–14 | AE8: Lekce 97: Skutkové 22; 24; 26* | AF8: Lekce 100: Římanům 3* | AG8: Lekce 104: Římanům 12–13* | AH8: Lekce 107: 1. Korintským 2* | AI8: Lekce 110: 1. Korintským 11 | AJ8: Lekce 114: 1. Korintským 15:29–54 | AK8: Lekce 118: 2. Korintským 2* | AL8: Lekce 122: 2. Korintským 12–13 | AN8: Lekce 125: Efezským 2* | AO8: Lekce 129: Filipenským 4* | AP8: Lekce 133: 1. Tessalonicenským* | AQ8: Lekce 136: 2. Timoteovi 3 | AR8: Lekce 139: Židům 2–4 | AS8: Lekce 142: Židům 12 | AT8: Lekce 144: Jakub 2 | AU8: Lekce 147: 1. Petrova 3:18–22; 4:1–6 | AV8: Lekce 150: 1. Janova 2–4 | AW8: Lekce 152: Zjevení 2–3 | AX8: Lekce 155: Zjevení 12 | AY8: Lekce 158: Zjevení 21–22
A9: Lekce 3: Lukáš 1 | C9: Lekce 8: Procvičování mistrovství v nauce 1 | D9: Lekce 11: Matouš 3:13–17* | E9: Lekce 14: Zhodnoťte své studium 1 | F9: Lekce 17: Jan 4* | G9: Lekce 20: Matouš 5:17–48 | H9: Lekce 23: Matouš 7:1–5* | I9: Lekce 27: Lukáš 7:36–50* | J9: Lekce 30: Matouš 9:36–38; 10* | K9: Lekce 34: Lukáš 11:1–13 | L9: Lekce 37: Matouš 13:24–30, 36–43 | N9: Lekce 40: Jan 5:19, 30; 8:18–28; Matouš 11:27 | O9: Lekce 44: Procvičování mistrovství v nauce 3 | P9: Lekce 47: Zhodnoťte své studium 3 | Q9: Lekce 50: Jan 9* | R9: Lekce 54: Lukáš 17:11–19* | S9: Lekce 58: Matouš 20:1–16 | T9: Lekce 61: Procvičování mistrovství v nauce 4 | V9: Lekce 66: Zhodnoťte své studium 4 | W9: Lekce 69: Jan 17 | X9: Lekce 72: Lukáš 22:47–71; Jan 18:1–12, 33–38* | Y9: Lekce 75: Matouš 27: 44–66; Marek 15:15–38* | Z9: Lekce 79: Lukáš 24:13–35* | AA9: Lekce 83: Skutkové 3* | AB9: Lekce 87: Skutkové 8:1–3; 9:1–20* | AC9: Lekce 91: Skutkové 12 | AD9: Lekce 94: Skutkové 19:1–7 | AE9: Lekce 98: Zhodnoťte své studium 6 | AF9: Lekce 101: Římanům 4–5* | AG9: Lekce 105: Římanům 12–15 | AH9: Lekce 108: 1. Korintským 6 | AI9: Lekce 111: 1. Korintským 12* | AJ9: Lekce 115: Zhodnoťte své studium 7 | AK9: Lekce 119: 2. Korintským 5 | AN9: Lekce 126: Efezským 5–6* | AO9: Lekce 130: Kolossenským 1–3 | AP9: Lekce 134: 2. Tessalonicenským* | AQ9: Lekce 137: 2. Timoteovi 4* | AR9: Lekce 140: Procvičování mistrovství v nauce 9 | AT9: Lekce 145: Zhodnoťte své studium 9 | AU9: Lekce 148: 2. Petrova 1 | AW9: Lekce 153: Zjevení 5–7 | AX9: Lekce 156: Zjevení 14 | AY9: Lekce 159: Zhodnoťte své studium 10
H10: Lekce 24: Procvičování mistrovství v nauce 2 | J10: Lekce 31: Zhodnoťte své studium 2 | N10: Lekce 41: Jan 6 | Q10: Lekce 51: Jan 10* | R10: Lekce 55: Jan 11* | Y10: Lekce 76: Procvičování mistrovství v nauce 5 | Z10: Lekce 80: Zhodnoťte své studium 5 | AA10: Lekce 84: Skutkové 4–5 | AB10: Lekce 88: Skutkové 9:10–31* | AD10: Lekce 95: Procvičování mistrovství v nauce 6 | AF10: Lekce 102: Římanům 6* | AI10: Lekce 112: 1. Korintským 13* | AJ10: Lekce 116: Procvičování mistrovství v nauce 7 | AK10: Lekce 120: 2. Korintským 7 | AN10: Lekce 127: Efezským 6:10−24* | AO10: Lekce 131: Procvičování mistrovství v nauce 8

Sheet LISTWeeks
A1: Week 1 | B1: Week 2 | C1: Week 3 | D1: Week 4 | E1: Week 5 | F1: Week 6 | G1: Week 7 | H1: Week 8 | I1: Week 9 | J1: Week 10 | K1: Week 11 | L1: Week 12 | M1: Week 13 | N1: Week 14 | O1: Week 15 | P1: Week 16 | Q1: Week 17 | R1: Week 18 | S1: Week 19 | T1: Week 20 | U1: Week 21 | V1: Week 22 | W1: Week 23 | X1: Week 24 | Y1: Week 25 | Z1: Week 26 | AA1: Week 27 | AB1: Week 28 | AC1: Week 29 | AD1: Week 30 | AE1: Week 31 | AF1: Week 32 | AG1: Week 33 | AH1: Week 34 | AI1: Week 35 | AJ1: Week 36 | AK1: Week 37 | AL1: Week 38 | AM1: Week 39 | AN1: Week 40 | AO1: Week 41 | AP1: Week 42 | AQ1: Week 43 | AR1: Week 44 | AS1: Week 45 | AT1: Week 46 | AU1: Week 47 | AV1: Week 48 | AW1: Week 49 | AX1: Week 50 | AY1: Week 51 | AZ1: Week 52
A3: {=_xlfn.VSTACK(_xlfn.ANCHORARRAY(LISTSC!A7),_xlfn.ANCHORARRAY(LISTLP!C3))} -> Lekce 1: Úvod k Novému zákonu* | B3: {=_xlfn.VSTACK(_xlfn.ANCHORARRAY(LISTSC!B7),_xlfn.ANCHORARRAY(LISTLP!C3))} -> Lekce 4: Lukáš 2:1–14* | C3: {=_xlfn.VSTACK(_xlfn.ANCHORARRAY(LISTSC!C7),_xlfn.ANCHORARRAY(LISTLP!C3))} -> Lekce 6: Jan 1:1–16* | D3: {=_xlfn.VSTACK(_xlfn.ANCHORARRAY(LISTSC!D7),_xlfn.ANCHORARRAY(LISTLP!C3))} -> Lekce 9: Matouš 3:1–12; Marek 1:1–8* | E3: {=_xlfn.VSTACK(_xlfn.ANCHORARRAY(LISTSC!E7),_xlfn.ANCHORARRAY(LISTLP!C3))} -> Lekce 12: Matouš 4:1–11 | F3: {=_xlfn.VSTACK(_xlfn.ANCHORARRAY(LISTSC!F7),_xlfn.ANCHORARRAY(LISTLP!C3))} -> Lekce 15: Jan 3:1–13* | G3: {=_xlfn.VSTACK(_xlfn.ANCHORARRAY(LISTSC!G7),_xlfn.ANCHORARRAY(LISTLP!C3))} -> Lekce 18: Matouš 5:1–12* | H3: {=_xlfn.VSTACK(_xlfn.ANCHORARRAY(LISTSC!H7),_xlfn.ANCHORARRAY(LISTLP!C3))} -> Lekce 21: Matouš 6:1–18 | I3: {=_xlfn.VSTACK(_xlfn.ANCHORARRAY(LISTSC!I7),_xlfn.ANCHORARRAY(LISTLP!C3))} -> Lekce 25: Matouš 8; Lukáš 7:11–17* | J3: {=_xlfn.VSTACK(_xlfn.ANCHORARRAY(LISTSC!J7),_xlfn.ANCHORARRAY(LISTLP!C3))} -> Lekce 28: Marek 5:24–34* | K3: {=_xlfn.VSTACK(_xlfn.ANCHORARRAY(LISTSC!K7),_xlfn.ANCHORARRAY(LISTLP!C3))} -> Lekce 32: Matouš 11:28–30 | L3: {=_xlfn.VSTACK(_xlfn.ANCHORARRAY(LISTSC!L7),_xlfn.ANCHORARRAY(LISTLP!C3))} -> Lekce 35: Matouš 13* | M3: {=_xlfn.VSTACK(_xlfn.ANCHORARRAY(LISTSC!M7),_xlfn.ANCHORARRAY(LISTLP!C3))} -> Velikonoce: Radostné poselství Velikonoc | N3: {=_xlfn.VSTACK(_xlfn.ANCHORARRAY(LISTSC!N7),_xlfn.ANCHORARRAY(LISTLP!C3))} -> Lekce 38: Matouš 14:13–21; Jan 6:5–14 | O3: {=_xlfn.VSTACK(_xlfn.ANCHORARRAY(LISTSC!O7),_xlfn.ANCHORARRAY(LISTLP!C3))} -> Lekce 42: Matouš 16:13–18 | P3: {=_xlfn.VSTACK(_xlfn.ANCHORARRAY(LISTSC!P7),_xlfn.ANCHORARRAY(LISTLP!C3))} -> Lekce 45: Matouš 18:21–35* | Q3: {=_xlfn.VSTACK(_xlfn.ANCHORARRAY(LISTSC!Q7),_xlfn.ANCHORARRAY(LISTLP!C3))} -> Lekce 48: Jan 7 | R3: {=_xlfn.VSTACK(_xlfn.ANCHORARRAY(LISTSC!R7),_xlfn.ANCHORARRAY(LISTLP!C3))} -> Lekce 52: Lukáš 15, 1. část* | S3: {=_xlfn.VSTACK(_xlfn.ANCHORARRAY(LISTSC!S7),_xlfn.ANCHORARRAY(LISTLP!C3))} -> Lekce 56: Matouš 19:1–2 | T3: {=_xlfn.VSTACK(_xlfn.ANCHORARRAY(LISTSC!T7),_xlfn.ANCHORARRAY(LISTLP!C3))} -> Lekce 59: Matouš 21:1–16; Jan 12:12–15* | U3: {=_xlfn.VSTACK(_xlfn.ANCHORARRAY(LISTSC!U7),_xlfn.ANCHORARRAY(LISTLP!C3))} -> Lekce 62: Joseph Smith – Matouš* | V3: {=_xlfn.VSTACK(_xlfn.ANCHORARRAY(LISTSC!V7),_xlfn.ANCHORARRAY(LISTLP!C3))} -> Lekce 64: Jan 13 | W3: {=_xlfn.VSTACK(_xlfn.ANCHORARRAY(LISTSC!W7),_xlfn.ANCHORARRAY(LISTLP!C3))} -> Lekce 67: Jan 14:15–31; 15:10–14 | X3: {=_xlfn.VSTACK(_xlfn.ANCHORARRAY(LISTSC!X7),_xlfn.ANCHORARRAY(LISTLP!C3))} -> Lekce 70: Lukáš 22:28–34, 54–61 | Y3: {=_xlfn.VSTACK(_xlfn.ANCHORARRAY(LISTSC!Y7),_xlfn.ANCHORARRAY(LISTLP!C3))} -> Lekce 73: Matouš 27:27–37; Marek 15:15–26* | Z3: {=_xlfn.VSTACK(_xlfn.ANCHORARRAY(LISTSC!Z7),_xlfn.ANCHORARRAY(LISTLP!C3))} -> Lekce 77: Lukáš 24:1–12, 36–48* | AA3: {=_xlfn.VSTACK(_xlfn.ANCHORARRAY(LISTSC!AA7),_xlfn.ANCHORARRAY(LISTLP!C3))} -> Lekce 81: Skutkové 1* | AB3: {=_xlfn.VSTACK(_xlfn.ANCHORARRAY(LISTSC!AB7),_xlfn.ANCHORARRAY(LISTLP!C3))} -> Lekce 85: Skutkové 6–7* | AC3: {=_xlfn.VSTACK(_xlfn.ANCHORARRAY(LISTSC!AC7),_xlfn.ANCHORARRAY(LISTLP!C3))} -> Lekce 89: Skutkové 10, 1. část* | AD3: {=_xlfn.VSTACK(_xlfn.ANCHORARRAY(LISTSC!AD7),_xlfn.ANCHORARRAY(LISTLP!C3))} -> Lekce 92: Skutkové 16* | AE3: {=_xlfn.VSTACK(_xlfn.ANCHORARRAY(LISTSC!AE7),_xlfn.ANCHORARRAY(LISTLP!C3))} -> Lekce 96: Skutkové 22–28 | AF3: {=_xlfn.VSTACK(_xlfn.ANCHORARRAY(LISTSC!AF7),_xlfn.ANCHORARRAY(LISTLP!C3))} -> Lekce 99: Římanům 1 | AG3: {=_xlfn.VSTACK(_xlfn.ANCHORARRAY(LISTSC!AG7),_xlfn.ANCHORARRAY(LISTLP!C3))} -> Lekce 103: Římanům 8 | AH3: {=_xlfn.VSTACK(_xlfn.ANCHORARRAY(LISTSC!AH7),_xlfn.ANCHORARRAY(LISTLP!C3))} -> Lekce 106: 1. Korintským 1–4 | AI3: {=_xlfn.VSTACK(_xlfn.ANCHORARRAY(LISTSC!AI7),_xlfn.ANCHORARRAY(LISTLP!C3))} -> Lekce 109: 1. Korintským 10 | AJ3: {=_xlfn.VSTACK(_xlfn.ANCHORARRAY(LISTSC!AJ7),_xlfn.ANCHORARRAY(LISTLP!C3))} -> Lekce 113: 1. Korintským 15:13–28, 54–58 | AK3: {=_xlfn.VSTACK(_xlfn.ANCHORARRAY(LISTSC!AK7),_xlfn.ANCHORARRAY(LISTLP!C3))} -> Lekce 117: 2. Korintským 1; 4* | AL3: {=_xlfn.VSTACK(_xlfn.ANCHORARRAY(LISTSC!AL7),_xlfn.ANCHORARRAY(LISTLP!C3))} -> Lekce 121: 2. Korintským 8–9* | AM3: {=_xlfn.VSTACK(_xlfn.ANCHORARRAY(LISTSC!AM7),_xlfn.ANCHORARRAY(LISTLP!C3))} -> Lekce 123: Galatským 5 | AN3: {=_xlfn.VSTACK(_xlfn.ANCHORARRAY(LISTSC!AN7),_xlfn.ANCHORARRAY(LISTLP!C3))} -> Lekce 124: Efezským 1* | AO3: {=_xlfn.VSTACK(_xlfn.ANCHORARRAY(LISTSC!AO7),_xlfn.ANCHORARRAY(LISTLP!C3))} -> Lekce 128: Filipenským 3* | AP3: {=_xlfn.VSTACK(_xlfn.ANCHORARRAY(LISTSC!AP7),_xlfn.ANCHORARRAY(LISTLP!C3))} -> Lekce 132: Zhodnoťte své studium 8 | AQ3: {=_xlfn.VSTACK(_xlfn.ANCHORARRAY(LISTSC!AQ7),_xlfn.ANCHORARRAY(LISTLP!C3))} -> Lekce 135: 1. Timoteovi 4:12–16* | AR3: {=_xlfn.VSTACK(_xlfn.ANCHORARRAY(LISTSC!AR7),_xlfn.ANCHORARRAY(LISTLP!C3))} -> Lekce 138: Židům 1–13 | AS3: {=_xlfn.VSTACK(_xlfn.ANCHORARRAY(LISTSC!AS7),_xlfn.ANCHORARRAY(LISTLP!C3))} -> Lekce 141: Židům 11* | AT3: {=_xlfn.VSTACK(_xlfn.ANCHORARRAY(LISTSC!AT7),_xlfn.ANCHORARRAY(LISTLP!C3))} -> Lekce 143: Jakub 1 | AU3: {=_xlfn.VSTACK(_xlfn.ANCHORARRAY(LISTSC!AU7),_xlfn.ANCHORARRAY(LISTLP!C3))} -> Lekce 146: 1. Petrova 2–3 | AV3: {=_xlfn.VSTACK(_xlfn.ANCHORARRAY(LISTSC!AV7),_xlfn.ANCHORARRAY(LISTLP!C3))} -> Lekce 149: 1. Janova 1–5 | AW3: {=_xlfn.VSTACK(_xlfn.ANCHORARRAY(LISTSC!AW7),_xlfn.ANCHORARRAY(LISTLP!C3))} -> Lekce 151: Zjevení 1 | AX3: {=_xlfn.VSTACK(_xlfn.ANCHORARRAY(LISTSC!AX7),_xlfn.ANCHORARRAY(LISTLP!C3))} -> Lekce 154: Procvičování mistrovství v nauce 10 | AY3: {=_xlfn.VSTACK(_xlfn.ANCHORARRAY(LISTSC!AY7),_xlfn.ANCHORARRAY(LISTLP!C3))} -> Lekce 157: Zjevení 20:11–15 | AZ3: {=_xlfn.VSTACK(_xlfn.ANCHORARRAY(LISTLP!C3))} -> Lekce 161: Posilujme své duchovní základy
A4: Lekce 2: Matouš 1* | B4: Lekce 5: Lukáš 2:1–39; Matouš 2:1–12 | C4: Lekce 7: Jan 1:35–51* | D4: Lekce 10: Lukáš 3* | E4: Lekce 13: Lukáš 5:1–11* | F4: Lekce 16: Jan 3:14–17 | G4: Lekce 19: Matouš 5:14–16 | H4: Lekce 22: Matouš 6:19–34 | I4: Lekce 26: Marek 2:1–12* | J4: Lekce 29: Marek 5:21–24, 35–43* | K4: Lekce 33: Marek 2:23–3:6 | L4: Lekce 36: Matouš 13:3–8, 18–23* | M4: Lekce 161: Posilujme své duchovní základy | N4: Lekce 39: Matouš 14:22–33 | O4: Lekce 43: Matouš 16:18–19; 17:1–7* | P4: Lekce 46: Lukáš 10:25–37* | Q4: Lekce 49: Jan 8 | R4: Lekce 53: Lukáš 15, 2. část* | S4: Lekce 57: Matouš 19:16–30; Marek 10:17–31* | T4: Lekce 60: Matouš 22:34–40* | U4: Lekce 63: Matouš 25:1–13* | V4: Lekce 65: Matouš 26:26–30; Lukáš 22:19–20* | W4: Lekce 68: Jan 14–16 | X4: Lekce 71: Matouš 26:36–46; Lukáš 22:39–46* | Y4: Lekce 74: Matouš 27:39–43; Lukáš 23:32–37; Jan 19:25–27* | Z4: Lekce 78: Matouš 28; Lukáš 24; Jan 20* | AA4: Lekce 82: Skutkové 2* | AB4: Lekce 86: Skutkové 8* | AC4: Lekce 90: Skutkové 10, 2. část* | AD4: Lekce 93: Skutkové 17:1–14 | AE4: Lekce 97: Skutkové 22; 24; 26* | AF4: Lekce 100: Římanům 3* | AG4: Lekce 104: Římanům 12–13* | AH4: Lekce 107: 1. Korintským 2* | AI4: Lekce 110: 1. Korintským 11 | AJ4: Lekce 114: 1. Korintským 15:29–54 | AK4: Lekce 118: 2. Korintským 2* | AL4: Lekce 122: 2. Korintským 12–13 | AM4: Lekce 161: Posilujme své duchovní základy | AN4: Lekce 125: Efezským 2* | AO4: Lekce 129: Filipenským 4* | AP4: Lekce 133: 1. Tessalonicenským* | AQ4: Lekce 136: 2. Timoteovi 3 | AR4: Lekce 139: Židům 2–4 | AS4: Lekce 142: Židům 12 | AT4: Lekce 144: Jakub 2 | AU4: Lekce 147: 1. Petrova 3:18–22; 4:1–6 | AV4: Lekce 150: 1. Janova 2–4 | AW4: Lekce 152: Zjevení 2–3 | AX4: Lekce 155: Zjevení 12 | AY4: Lekce 158: Zjevení 21–22 | AZ4: Lekce 162: Získávejme osobní zjevení ohledně svých otázek
A5: Lekce 3: Lukáš 1 | B5: Lekce 161: Posilujme své duchovní základy | C5: Lekce 8: Procvičování mistrovství v nauce 1 | D5: Lekce 11: Matouš 3:13–17* | E5: Lekce 14: Zhodnoťte své studium 1 | F5: Lekce 17: Jan 4* | G5: Lekce 20: Matouš 5:17–48 | H5: Lekce 23: Matouš 7:1–5* | I5: Lekce 27: Lukáš 7:36–50* | J5: Lekce 30: Matouš 9:36–38; 10* | K5: Lekce 34: Lukáš 11:1–13 | L5: Lekce 37: Matouš 13:24–30, 36–43 | M5: Lekce 162: Získávejme osobní zjevení ohledně svých otázek | N5: Lekce 40: Jan 5:19, 30; 8:18–28; Matouš 11:27 | O5: Lekce 44: Procvičování mistrovství v nauce 3 | P5: Lekce 47: Zhodnoťte své studium 3 | Q5: Lekce 50: Jan 9* | R5: Lekce 54: Lukáš 17:11–19* | S5: Lekce 58: Matouš 20:1–16 | T5: Lekce 61: Procvičování mistrovství v nauce 4 | U5: Lekce 161: Posilujme své duchovní základy | V5: Lekce 66: Zhodnoťte své studium 4 | W5: Lekce 69: Jan 17 | X5: Lekce 72: Lukáš 22:47–71; Jan 18:1–12, 33–38* | Y5: Lekce 75: Matouš 27: 44–66; Marek 15:15–38* | Z5: Lekce 79: Lukáš 24:13–35* | AA5: Lekce 83: Skutkové 3* | AB5: Lekce 87: Skutkové 8:1–3; 9:1–20* | AC5: Lekce 91: Skutkové 12 | AD5: Lekce 94: Skutkové 19:1–7 | AE5: Lekce 98: Zhodnoťte své studium 6 | AF5: Lekce 101: Římanům 4–5* | AG5: Lekce 105: Římanům 12–15 | AH5: Lekce 108: 1. Korintským 6 | AI5: Lekce 111: 1. Korintským 12* | AJ5: Lekce 115: Zhodnoťte své studium 7 | AK5: Lekce 119: 2. Korintským 5 | AL5: Lekce 161: Posilujme své duchovní základy | AM5: Lekce 162: Získávejme osobní zjevení ohledně svých otázek | AN5: Lekce 126: Efezským 5–6* | AO5: Lekce 130: Kolossenským 1–3 | AP5: Lekce 134: 2. Tessalonicenským* | AQ5: Lekce 137: 2. Timoteovi 4* | AR5: Lekce 140: Procvičování mistrovství v nauce 9 | AS5: Lekce 161: Posilujme své duchovní základy | AT5: Lekce 145: Zhodnoťte své studium 9 | AU5: Lekce 148: 2. Petrova 1 | AV5: Lekce 161: Posilujme své duchovní základy | AW5: Lekce 153: Zjevení 5–7 | AX5: Lekce 156: Zjevení 14 | AY5: Lekce 159: Zhodnoťte své studium 10 | AZ5: Lekce 163: Při hledání odpovědí jednejme s vírou
A6: Lekce 161: Posilujme své duchovní základy | B6: Lekce 162: Získávejme osobní zjevení ohledně svých otázek | C6: Lekce 161: Posilujme své duchovní základy | D6: Lekce 161: Posilujme své duchovní základy | E6: Lekce 161: Posilujme své duchovní základy | F6: Lekce 161: Posilujme své duchovní základy | G6: Lekce 161: Posilujme své duchovní základy | H6: Lekce 24: Procvičování mistrovství v nauce 2 | I6: Lekce 161: Posilujme své duchovní základy | J6: Lekce 31: Zhodnoťte své studium 2 | K6: Lekce 161: Posilujme své duchovní základy | L6: Lekce 161: Posilujme své duchovní základy | M6: Lekce 163: Při hledání odpovědí jednejme s vírou | N6: Lekce 41: Jan 6 | O6: Lekce 161: Posilujme své duchovní základy | P6: Lekce 161: Posilujme své duchovní základy | Q6: Lekce 51: Jan 10* | R6: Lekce 55: Jan 11* | S6: Lekce 161: Posilujme své duchovní základy | T6: Lekce 161: Posilujme své duchovní základy | U6: Lekce 162: Získávejme osobní zjevení ohledně svých otázek | V6: Lekce 161: Posilujme své duchovní základy | W6: Lekce 161: Posilujme své duchovní základy | X6: Lekce 161: Posilujme své duchovní základy | Y6: Lekce 76: Procvičování mistrovství v nauce 5 | Z6: Lekce 80: Zhodnoťte své studium 5 | AA6: Lekce 84: Skutkové 4–5 | AB6: Lekce 88: Skutkové 9:10–31* | AC6: Lekce 161: Posilujme své duchovní základy | AD6: Lekce 95: Procvičování mistrovství v nauce 6 | AE6: Lekce 161: Posilujme své duchovní základy | AF6: Lekce 102: Římanům 6* | AG6: Lekce 161: Posilujme své duchovní základy | AH6: Lekce 161: Posilujme své duchovní základy | AI6: Lekce 112: 1. Korintským 13* | AJ6: Lekce 116: Procvičování mistrovství v nauce 7 | AK6: Lekce 120: 2. Korintským 7 | AL6: Lekce 162: Získávejme osobní zjevení ohledně svých otázek | AM6: Lekce 163: Při hledání odpovědí jednejme s vírou | AN6: Lekce 127: Efezským 6:10−24* | AO6: Lekce 131: Procvičování mistrovství v nauce 8 | AP6: Lekce 161: Posilujme své duchovní základy | AQ6: Lekce 161: Posilujme své duchovní základy | AR6: Lekce 161: Posilujme své duchovní základy | AS6: Lekce 162: Získávejme osobní zjevení ohledně svých otázek | AT6: Lekce 161: Posilujme své duchovní základy | AU6: Lekce 161: Posilujme své duchovní základy | AV6: Lekce 162: Získávejme osobní zjevení ohledně svých otázek | AW6: Lekce 161: Posilujme své duchovní základy | AX6: Lekce 161: Posilujme své duchovní základy | AY6: Lekce 161: Posilujme své duchovní základy | AZ6: Lekce 164: Zkoumejme témata a otázky týkající se evangelia z perspektivy věčnosti
A7: Lekce 162: Získávejme osobní zjevení ohledně svých otázek | B7: Lekce 163: Při hledání odpovědí jednejme s vírou | C7: Lekce 162: Získávejme osobní zjevení ohledně svých otázek | D7: Lekce 162: Získávejme osobní zjevení ohledně svých otázek | E7: Lekce 162: Získávejme osobní zjevení ohledně svých otázek | F7: Lekce 162: Získávejme osobní zjevení ohledně svých otázek | G7: Lekce 162: Získávejme osobní zjevení ohledně svých otázek | H7: Lekce 161: Posilujme své duchovní základy | I7: Lekce 162: Získávejme osobní zjevení ohledně svých otázek | J7: Lekce 161: Posilujme své duchovní základy | K7: Lekce 162: Získávejme osobní zjevení ohledně svých otázek | L7: Lekce 162: Získávejme osobní zjevení ohledně svých otázek | M7: Lekce 164: Zkoumejme témata a otázky týkající se evangelia z perspektivy věčnosti | N7: Lekce 161: Posilujme své duchovní základy | O7: Lekce 162: Získávejme osobní zjevení ohledně svých otázek | P7: Lekce 162: Získávejme osobní zjevení ohledně svých otázek | Q7: Lekce 161: Posilujme své duchovní základy | R7: Lekce 161: Posilujme své duchovní základy | S7: Lekce 162: Získávejme osobní zjevení ohledně svých otázek | T7: Lekce 162: Získávejme osobní zjevení ohledně svých otázek | U7: Lekce 163: Při hledání odpovědí jednejme s vírou | V7: Lekce 162: Získávejme osobní zjevení ohledně svých otázek | W7: Lekce 162: Získávejme osobní zjevení ohledně svých otázek | X7: Lekce 162: Získávejme osobní zjevení ohledně svých otázek | Y7: Lekce 161: Posilujme své duchovní základy | Z7: Lekce 161: Posilujme své duchovní základy | AA7: Lekce 161: Posilujme své duchovní základy | AB7: Lekce 161: Posilujme své duchovní základy | AC7: Lekce 162: Získávejme osobní zjevení ohledně svých otázek | AD7: Lekce 161: Posilujme své duchovní základy | AE7: Lekce 162: Získávejme osobní zjevení ohledně svých otázek | AF7: Lekce 161: Posilujme své duchovní základy | AG7: Lekce 162: Získávejme osobní zjevení ohledně svých otázek | AH7: Lekce 162: Získávejme osobní zjevení ohledně svých otázek | AI7: Lekce 161: Posilujme své duchovní základy | AJ7: Lekce 161: Posilujme své duchovní základy | AK7: Lekce 161: Posilujme své duchovní základy | AL7: Lekce 163: Při hledání odpovědí jednejme s vírou | AM7: Lekce 164: Zkoumejme témata a otázky týkající se evangelia z perspektivy věčnosti | AN7: Lekce 161: Posilujme své duchovní základy | AO7: Lekce 161: Posilujme své duchovní základy | AP7: Lekce 162: Získávejme osobní zjevení ohledně svých otázek | AQ7: Lekce 162: Získávejme osobní zjevení ohledně svých otázek | AR7: Lekce 162: Získávejme osobní zjevení ohledně svých otázek | AS7: Lekce 163: Při hledání odpovědí jednejme s vírou | AT7: Lekce 162: Získávejme osobní zjevení ohledně svých otázek | AU7: Lekce 162: Získávejme osobní zjevení ohledně svých otázek | AV7: Lekce 163: Při hledání odpovědí jednejme s vírou | AW7: Lekce 162: Získávejme osobní zjevení ohledně svých otázek | AX7: Lekce 162: Získávejme osobní zjevení ohledně svých otázek | AY7: Lekce 162: Získávejme osobní zjevení ohledně svých otázek | AZ7: Lekce 165: Obracejme se k božsky určeným zdrojům a materiálům
A8: Lekce 163: Při hledání odpovědí jednejme s vírou | B8: Lekce 164: Zkoumejme témata a otázky týkající se evangelia z perspektivy věčnosti | C8: Lekce 163: Při hledání odpovědí jednejme s vírou | D8: Lekce 163: Při hledání odpovědí jednejme s vírou | E8: Lekce 163: Při hledání odpovědí jednejme s vírou | F8: Lekce 163: Při hledání odpovědí jednejme s vírou | G8: Lekce 163: Při hledání odpovědí jednejme s vírou | H8: Lekce 162: Získávejme osobní zjevení ohledně svých otázek | I8: Lekce 163: Při hledání odpovědí jednejme s vírou | J8: Lekce 162: Získávejme osobní zjevení ohledně svých otázek | K8: Lekce 163: Při hledání odpovědí jednejme s vírou | L8: Lekce 163: Při hledání odpovědí jednejme s vírou | M8: Lekce 165: Obracejme se k božsky určeným zdrojům a materiálům | N8: Lekce 162: Získávejme osobní zjevení ohledně svých otázek | O8: Lekce 163: Při hledání odpovědí jednejme s vírou | P8: Lekce 163: Při hledání odpovědí jednejme s vírou | Q8: Lekce 162: Získávejme osobní zjevení ohledně svých otázek | R8: Lekce 162: Získávejme osobní zjevení ohledně svých otázek | S8: Lekce 163: Při hledání odpovědí jednejme s vírou | T8: Lekce 163: Při hledání odpovědí jednejme s vírou | U8: Lekce 164: Zkoumejme témata a otázky týkající se evangelia z perspektivy věčnosti | V8: Lekce 163: Při hledání odpovědí jednejme s vírou | W8: Lekce 163: Při hledání odpovědí jednejme s vírou | X8: Lekce 163: Při hledání odpovědí jednejme s vírou | Y8: Lekce 162: Získávejme osobní zjevení ohledně svých otázek | Z8: Lekce 162: Získávejme osobní zjevení ohledně svých otázek | AA8: Lekce 162: Získávejme osobní zjevení ohledně svých otázek | AB8: Lekce 162: Získávejme osobní zjevení ohledně svých otázek | AC8: Lekce 163: Při hledání odpovědí jednejme s vírou | AD8: Lekce 162: Získávejme osobní zjevení ohledně svých otázek | AE8: Lekce 163: Při hledání odpovědí jednejme s vírou | AF8: Lekce 162: Získávejme osobní zjevení ohledně svých otázek | AG8: Lekce 163: Při hledání odpovědí jednejme s vírou | AH8: Lekce 163: Při hledání odpovědí jednejme s vírou | AI8: Lekce 162: Získávejme osobní zjevení ohledně svých otázek | AJ8: Lekce 162: Získávejme osobní zjevení ohledně svých otázek | AK8: Lekce 162: Získávejme osobní zjevení ohledně svých otázek | AL8: Lekce 164: Zkoumejme témata a otázky týkající se evangelia z perspektivy věčnosti | AM8: Lekce 165: Obracejme se k božsky určeným zdrojům a materiálům | AN8: Lekce 162: Získávejme osobní zjevení ohledně svých otázek | AO8: Lekce 162: Získávejme osobní zjevení ohledně svých otázek | AP8: Lekce 163: Při hledání odpovědí jednejme s vírou | AQ8: Lekce 163: Při hledání odpovědí jednejme s vírou | AR8: Lekce 163: Při hledání odpovědí jednejme s vírou | AS8: Lekce 164: Zkoumejme témata a otázky týkající se evangelia z perspektivy věčnosti | AT8: Lekce 163: Při hledání odpovědí jednejme s vírou | AU8: Lekce 163: Při hledání odpovědí jednejme s vírou | AV8: Lekce 164: Zkoumejme témata a otázky týkající se evangelia z perspektivy věčnosti | AW8: Lekce 163: Při hledání odpovědí jednejme s vírou | AX8: Lekce 163: Při hledání odpovědí jednejme s vírou | AY8: Lekce 163: Při hledání odpovědí jednejme s vírou | AZ8: Lekce 166: Zaměřujme se při studiu písem na Ježíše Krista
A9: Lekce 164: Zkoumejme témata a otázky týkající se evangelia z perspektivy věčnosti | B9: Lekce 165: Obracejme se k božsky určeným zdrojům a materiálům | C9: Lekce 164: Zkoumejme témata a otázky týkající se evangelia z perspektivy věčnosti | D9: Lekce 164: Zkoumejme témata a otázky týkající se evangelia z perspektivy věčnosti | E9: Lekce 164: Zkoumejme témata a otázky týkající se evangelia z perspektivy věčnosti | F9: Lekce 164: Zkoumejme témata a otázky týkající se evangelia z perspektivy věčnosti | G9: Lekce 164: Zkoumejme témata a otázky týkající se evangelia z perspektivy věčnosti | H9: Lekce 163: Při hledání odpovědí jednejme s vírou | I9: Lekce 164: Zkoumejme témata a otázky týkající se evangelia z perspektivy věčnosti | J9: Lekce 163: Při hledání odpovědí jednejme s vírou | K9: Lekce 164: Zkoumejme témata a otázky týkající se evangelia z perspektivy věčnosti | L9: Lekce 164: Zkoumejme témata a otázky týkající se evangelia z perspektivy věčnosti | M9: Lekce 166: Zaměřujme se při studiu písem na Ježíše Krista | N9: Lekce 163: Při hledání odpovědí jednejme s vírou | O9: Lekce 164: Zkoumejme témata a otázky týkající se evangelia z perspektivy věčnosti | P9: Lekce 164: Zkoumejme témata a otázky týkající se evangelia z perspektivy věčnosti | Q9: Lekce 163: Při hledání odpovědí jednejme s vírou | R9: Lekce 163: Při hledání odpovědí jednejme s vírou | S9: Lekce 164: Zkoumejme témata a otázky týkající se evangelia z perspektivy věčnosti | T9: Lekce 164: Zkoumejme témata a otázky týkající se evangelia z perspektivy věčnosti | U9: Lekce 165: Obracejme se k božsky určeným zdrojům a materiálům | V9: Lekce 164: Zkoumejme témata a otázky týkající se evangelia z perspektivy věčnosti | W9: Lekce 164: Zkoumejme témata a otázky týkající se evangelia z perspektivy věčnosti | X9: Lekce 164: Zkoumejme témata a otázky týkající se evangelia z perspektivy věčnosti | Y9: Lekce 163: Při hledání odpovědí jednejme s vírou | Z9: Lekce 163: Při hledání odpovědí jednejme s vírou | AA9: Lekce 163: Při hledání odpovědí jednejme s vírou | AB9: Lekce 163: Při hledání odpovědí jednejme s vírou | AC9: Lekce 164: Zkoumejme témata a otázky týkající se evangelia z perspektivy věčnosti | AD9: Lekce 163: Při hledání odpovědí jednejme s vírou | AE9: Lekce 164: Zkoumejme témata a otázky týkající se evangelia z perspektivy věčnosti | AF9: Lekce 163: Při hledání odpovědí jednejme s vírou | AG9: Lekce 164: Zkoumejme témata a otázky týkající se evangelia z perspektivy věčnosti | AH9: Lekce 164: Zkoumejme témata a otázky týkající se evangelia z perspektivy věčnosti | AI9: Lekce 163: Při hledání odpovědí jednejme s vírou | AJ9: Lekce 163: Při hledání odpovědí jednejme s vírou | AK9: Lekce 163: Při hledání odpovědí jednejme s vírou | AL9: Lekce 165: Obracejme se k božsky určeným zdrojům a materiálům | AM9: Lekce 166: Zaměřujme se při studiu písem na Ježíše Krista | AN9: Lekce 163: Při hledání odpovědí jednejme s vírou | AO9: Lekce 163: Při hledání odpovědí jednejme s vírou | AP9: Lekce 164: Zkoumejme témata a otázky týkající se evangelia z perspektivy věčnosti | AQ9: Lekce 164: Zkoumejme témata a otázky týkající se evangelia z perspektivy věčnosti | AR9: Lekce 164: Zkoumejme témata a otázky týkající se evangelia z perspektivy věčnosti | AS9: Lekce 165: Obracejme se k božsky určeným zdrojům a materiálům | AT9: Lekce 164: Zkoumejme témata a otázky týkající se evangelia z perspektivy věčnosti | AU9: Lekce 164: Zkoumejme témata a otázky týkající se evangelia z perspektivy věčnosti | AV9: Lekce 165: Obracejme se k božsky určeným zdrojům a materiálům | AW9: Lekce 164: Zkoumejme témata a otázky týkající se evangelia z perspektivy věčnosti | AX9: Lekce 164: Zkoumejme témata a otázky týkající se evangelia z perspektivy věčnosti | AY9: Lekce 164: Zkoumejme témata a otázky týkající se evangelia z perspektivy věčnosti | AZ9: Lekce 167: Nacházení pravd evangelia v písmech
